BEGIN:VCALENDAR
VERSION:2.0
PRODID:-//Wohlfühlcenter Murtal - ECPv6.3.7//NONSGML v1.0//EN
CALSCALE:GREGORIAN
METHOD:PUBLISH
X-WR-CALNAME:Wohlfühlcenter Murtal
X-ORIGINAL-URL:https://www.wohlfuehlcentermurtal.at
X-WR-CALDESC:Veranstaltungen für Wohlfühlcenter Murtal
REFRESH-INTERVAL;VALUE=DURATION:PT1H
X-Robots-Tag:noindex
X-PUBLISHED-TTL:PT1H
BEGIN:VTIMEZONE
TZID:Europe/Vienna
BEGIN:DAYLIGHT
TZOFFSETFROM:+0100
TZOFFSETTO:+0200
TZNAME:CEST
DTSTART:20230326T010000
END:DAYLIGHT
BEGIN:STANDARD
TZOFFSETFROM:+0200
TZOFFSETTO:+0100
TZNAME:CET
DTSTART:20231029T010000
END:STANDARD
END:VTIMEZONE
BEGIN:VEVENT
DTSTART;TZID=Europe/Vienna:20230706T180000
DTEND;TZID=Europe/Vienna:20230706T190000
DTSTAMP:20260421T135419
CREATED:20230630T073916Z
LAST-MODIFIED:20230630T073916Z
UID:9012-1688666400-1688670000@www.wohlfuehlcentermurtal.at
SUMMARY:SDB "Schmerzfrei durch Bewegung" Training am See in Kraubath
DESCRIPTION:SDB „Schmerzfrei durch Bewegung“ mit Erich Kropf \nJede Woche 60 bis 75 Minuten voller Bewegung für deine Gesundheit nach der Methode von Liebscher & Bracht \n  \nInhalt:                       Dehnungsübungen für den ganzen Körper sowie ev \nFaszienrollmassage nach Liebscher & Bracht \nÜbungshandbuch für Daheim \nWann/Wo:                Jeden Donnerstag von 18.00 Uhr bis 19.15 Uhr \nAm Badeteich in Kraubath – einmal ne ganze Runde am See       zum Trainingsplatz fahren \n7 Einheiten von 15. Juni bis 27.Juli 2023 \n  \nMitzubringen:               sportliche Bekleidung\, ev. Handtuch und Trainingsmatte bzw. \nHandtuch und was zu trinken \nKosten:                    15€ je Einheit   \nEinstieg in das Training „Schmerzfrei durch Bewegung“ ist jederzeit und für jeden möglich. Die Übungen werden so angeleitet\, dass sie für jeden machbar sind \n  \nAnmeldungen:        bitte unter 0664/1340124 telefonisch\, sms \,whatsapp oder email:  office@wohlfuehlcentermurtal.at \n  \nhttps://www.wohlfuehlcentermurtal.at/events/ \n\n\n\n\n\n\n\n\n\n\n\n \n  \n  \nLebe gesund\, beweglich & sorgenfrei mit „Erich bewegt“ \n  \nDein Wohlfühlcoach Erich Kropf\, zertifiziert nach Liebscher & Bracht \n  \nBei Schlechtwetter wird es einen Ersatztermin geben
URL:https://www.wohlfuehlcentermurtal.at/event/sdb-schmerzfrei-durch-bewegung-training-am-see-in-kraubath/
LOCATION:Badesee Kraubath\, Auweg\, Kraubath\, 8714\, Österreich
CATEGORIES:Training „Schmerzfrei durch Bewegung“
ATTACH;FMTTYPE=image/jpeg:https://www.wohlfuehlcentermurtal.at/wp-content/uploads/2023/06/7409b179-a16f-4f1a-80ea-27d67b816d88-1.jpg
END:VEVENT
BEGIN:VEVENT
DTSTART;TZID=Europe/Vienna:20230713T180000
DTEND;TZID=Europe/Vienna:20230713T180000
DTSTAMP:20260421T135419
CREATED:20230630T074210Z
LAST-MODIFIED:20230630T074210Z
UID:9015-1689271200-1689271200@www.wohlfuehlcentermurtal.at
SUMMARY:SDB Schmerzfrei durch Bewegung Training am See
DESCRIPTION:SDB „Schmerzfrei durch Bewegung“ mit Erich Kropf \nJede Woche 60 bis 75 Minuten voller Bewegung für deine Gesundheit nach der Methode von Liebscher & Bracht \n  \nInhalt:                       Dehnungsübungen für den ganzen Körper sowie ev \nFaszienrollmassage nach Liebscher & Bracht \nÜbungshandbuch für Daheim \nWann/Wo:                Jeden Donnerstag von 18.00 Uhr bis 19.15 Uhr \nAm Badeteich in Kraubath – einmal ne ganze Runde am See       zum Trainingsplatz fahren \n7 Einheiten von 15. Juni bis 27.Juli 2023 \n  \nMitzubringen:               sportliche Bekleidung\, ev. Handtuch und Trainingsmatte bzw. \nHandtuch und was zu trinken \nKosten:                    15€ je Einheit    \nEinstieg in das Training „Schmerzfrei durch Bewegung“ ist jederzeit und für jeden möglich. Die Übungen werden so angeleitet\, dass sie für jeden machbar sind \n  \nAnmeldungen:        bitte unter 0664/1340124 telefonisch\, sms \,whatsapp oder email:  office@wohlfuehlcentermurtal.at \n  \nhttps://www.wohlfuehlcentermurtal.at/events/ \n\n\n\n\n\n\n\n\n\n\n\n \n  \n  \nLebe gesund\, beweglich & sorgenfrei mit „Erich bewegt“ \n  \nDein Wohlfühlcoach Erich Kropf\, zertifiziert nach Liebscher & Bracht \n  \nBei Schlechtwetter wird es einen Ersatztermin geben
URL:https://www.wohlfuehlcentermurtal.at/event/sdb-schmerzfrei-durch-bewegung-training-am-see/
LOCATION:Badesee Kraubath\, Auweg\, Kraubath\, 8714\, Österreich
CATEGORIES:Training „Schmerzfrei durch Bewegung“
ATTACH;FMTTYPE=image/jpeg:https://www.wohlfuehlcentermurtal.at/wp-content/uploads/2023/06/7d4480b0-911b-4b4e-a256-c214c494a8ba-1.jpg
END:VEVENT
BEGIN:VEVENT
DTSTART;TZID=Europe/Vienna:20230720T180000
DTEND;TZID=Europe/Vienna:20230720T190000
DTSTAMP:20260421T135419
CREATED:20230630T074448Z
LAST-MODIFIED:20230630T074448Z
UID:9017-1689876000-1689879600@www.wohlfuehlcentermurtal.at
SUMMARY:S chmerzfrei D urch B ewegung - Training am See
DESCRIPTION:SDB „Schmerzfrei durch Bewegung“ mit Erich Kropf \nJede Woche 60 bis 75 Minuten voller Bewegung für deine Gesundheit nach der Methode von Liebscher & Bracht \n  \nInhalt:                       Dehnungsübungen für den ganzen Körper sowie ev \nFaszienrollmassage nach Liebscher & Bracht \nÜbungshandbuch für Daheim \nWann/Wo:                Jeden Donnerstag von 18.00 Uhr bis 19.15 Uhr \nAm Badeteich in Kraubath – einmal ne ganze Runde am See       zum Trainingsplatz fahren \n7 Einheiten von 15. Juni bis 27.Juli 2023 \n  \nMitzubringen:               sportliche Bekleidung\, ev. Handtuch und Trainingsmatte bzw. \nHandtuch und was zu trinken \nKosten:                    15€ je Einheit oder 7er Paket um  € 90\,– \nEinstieg in das Training „Schmerzfrei durch Bewegung“ ist jederzeit und für jeden möglich. Die Übungen werden so angeleitet\, dass sie für jeden machbar sind \n  \nAnmeldungen:        bitte unter 0664/1340124 telefonisch\, sms \,whatsapp oder email:  office@wohlfuehlcentermurtal.at \n  \nhttps://www.wohlfuehlcentermurtal.at/events/ \n\n\n\n\n\n\n\n\n\n\n\n \n  \n  \nLebe gesund\, beweglich & sorgenfrei mit „Erich bewegt“ \n  \nDein Wohlfühlcoach Erich Kropf\, zertifiziert nach Liebscher & Bracht \n  \nBei Schlechtwetter wird es einen Ersatztermin geben
URL:https://www.wohlfuehlcentermurtal.at/event/s-chmerzfrei-d-urch-b-ewegung-training-am-see/
LOCATION:Badesee Kraubath\, Auweg\, Kraubath\, 8714\, Österreich
CATEGORIES:Training „Schmerzfrei durch Bewegung“
ATTACH;FMTTYPE=image/jpeg:https://www.wohlfuehlcentermurtal.at/wp-content/uploads/2023/06/7d4480b0-911b-4b4e-a256-c214c494a8ba-1.jpg
END:VEVENT
BEGIN:VEVENT
DTSTART;TZID=Europe/Vienna:20230727T180000
DTEND;TZID=Europe/Vienna:20230727T190000
DTSTAMP:20260421T135419
CREATED:20230630T074628Z
LAST-MODIFIED:20230630T074628Z
UID:9019-1690480800-1690484400@www.wohlfuehlcentermurtal.at
SUMMARY:SdB Schmerzfrei durch Bewegung - Training am See in Kraubath
DESCRIPTION:SDB „Schmerzfrei durch Bewegung“ mit Erich Kropf \nJede Woche 60 bis 75 Minuten voller Bewegung für deine Gesundheit nach der Methode von Liebscher & Bracht \n  \nInhalt:                       Dehnungsübungen für den ganzen Körper sowie ev \nFaszienrollmassage nach Liebscher & Bracht \nÜbungshandbuch für Daheim \nWann/Wo:                Jeden Donnerstag von 18.00 Uhr bis 19.15 Uhr \nAm Badeteich in Kraubath – einmal ne ganze Runde am See       zum Trainingsplatz fahren \n7 Einheiten von 15. Juni bis 27.Juli 2023 \n  \nMitzubringen:               sportliche Bekleidung\, ev. Handtuch und Trainingsmatte bzw. \nHandtuch und was zu trinken \nKosten:                    15€ je Einheit oder 7er Paket um  € 90\,– \nEinstieg in das Training „Schmerzfrei durch Bewegung“ ist jederzeit und für jeden möglich. Die Übungen werden so angeleitet\, dass sie für jeden machbar sind \n  \nAnmeldungen:        bitte unter 0664/1340124 telefonisch\, sms \,whatsapp oder email:  office@wohlfuehlcentermurtal.at \n  \nhttps://www.wohlfuehlcentermurtal.at/events/ \n\n\n\n\n\n\n\n\n\n\n\n \n  \n  \nLebe gesund\, beweglich & sorgenfrei mit „Erich bewegt“ \n  \nDein Wohlfühlcoach Erich Kropf\, zertifiziert nach Liebscher & Bracht \n  \nBei Schlechtwetter wird es einen Ersatztermin geben
URL:https://www.wohlfuehlcentermurtal.at/event/sdb-schmerzfrei-durch-bewegung-training-am-see-in-kraubath-2/
LOCATION:Badesee Kraubath\, Auweg\, Kraubath\, 8714\, Österreich
CATEGORIES:Training „Schmerzfrei durch Bewegung“
ATTACH;FMTTYPE=image/jpeg:https://www.wohlfuehlcentermurtal.at/wp-content/uploads/2023/06/7d4480b0-911b-4b4e-a256-c214c494a8ba-1.jpg
END:VEVENT
END:VCALENDAR